BEGIN:VCALENDAR
VERSION:2.0
PRODID:gruene-boenebuettel.de
METHOD:PUBLISH
BEGIN:VTIMEZONE
TZID:Europe/Berlin
X-LIC-LOCATION:Europe/Berlin
BEGIN:DAYLIGHT
TZOFFSETFROM:+0100
TZOFFSETTO:+0200
TZNAME:CEST
DTSTART:19700329T020000
RRULE:FREQ=YEARLY;INTERVAL=1;BYDAY=-1SU;BYMONTH=3
END:DAYLIGHT
BEGIN:STANDARD
TZOFFSETFROM:+0200
TZOFFSETTO:+0100
TZNAME:CET
DTSTART:19701025T030000
RRULE:FREQ=YEARLY;INTERVAL=1;BYDAY=-1SU;BYMONTH=10
END:STANDARD
END:VTIMEZONE
BEGIN:VEVENT
UID:3cddd0b841e271be5447c8deb0fbc670@gruene-boenebuettel.de
URL;VALUE=URI:https://gruene-boenebuettel.de/termine/adventsleuchten/
LOCATION:Höllnhof, Bönebütteler Damm 166, Bönebüttel
SUMMARY:Adventsleuchten
DESCRIPTION;ALTREP="data:text/html,%0A%3Cp%3EZum%20zweiten%20Mal%20soll%2
 0unser%20Adventsleuchten%20stattfinden.%20Wir%20laden%20dich%20am%209.%20
 Dezember%202023%20von%2014%20%E2%80%93%2017%20Uhr%20auf%20den%20H%C3%B6ll
 nhof%20%28B%C3%B6neb%C3%BCtteler%20Damm%20166%29%20ein.%20Neben%20dem%20e
 inen%20oder%20anderen%20kulinarischen%20Angebot%20wird%20es%20auch%20hand
 gemachte%20Sachen%2C%20Kerzenziehen%20und%20andere%20Angebote%20geben.%20
 Wir%20freuen%20uns%20auf%20dich%21%3C%2Fp%3E%0A%0A%0A%0A%3Cp%3EWenn%20auc
 h%20du%20etwas%20zum%20Adventsmarkt%20beitragen%20m%C3%B6chtest%2C%20meld
 e%20dich%20gerne%20%28%3Ca%20href%3D%22mailto%3Adavid.dudyka%40gruene-boe
 nebuettel.de%22%3Edavid.dudyka%40gruene-boenebuettel.de%3C%2Fa%3E%29.%3C%
 2Fp%3E%0A%0A%0A%0A%3Cp%3E%3C%2Fp%3E%0A":Zum zweiten Mal soll unser Advent
 sleuchten stattfinden. Wir laden dich am 9. Dezember 2023 von 14 – 17 U
 hr auf den Höllnhof (Bönebütteler Damm 166) ein. Neben dem einen oder 
 anderen kulinarischen Angebot wird es auch handgemachte Sachen\, Kerzenzi
 ehen und andere Angebote geben. Wir freuen uns auf dich!\n\nWenn auch du 
 etwas zum Adventsmarkt beitragen möchtest\, melde dich gerne (david.dudy
 ka@gruene-boenebuettel.de).
CLASS:PUBLIC
DTSTART;TZID=Europe/Berlin:20231209T140000
DTEND;TZID=Europe/Berlin:20231209T170000
DTSTAMP:20260420T142708
END:VEVENT
END:VCALENDAR