BEGIN:VCALENDAR
VERSION:2.0
PRODID:gruene-boenebuettel.de
METHOD:PUBLISH
BEGIN:VTIMEZONE
TZID:Europe/Berlin
X-LIC-LOCATION:Europe/Berlin
BEGIN:DAYLIGHT
TZOFFSETFROM:+0100
TZOFFSETTO:+0200
TZNAME:CEST
DTSTART:19700329T020000
RRULE:FREQ=YEARLY;INTERVAL=1;BYDAY=-1SU;BYMONTH=3
END:DAYLIGHT
BEGIN:STANDARD
TZOFFSETFROM:+0200
TZOFFSETTO:+0100
TZNAME:CET
DTSTART:19701025T030000
RRULE:FREQ=YEARLY;INTERVAL=1;BYDAY=-1SU;BYMONTH=10
END:STANDARD
END:VTIMEZONE
BEGIN:VEVENT
UID:d140c5cc6773fa743ccd8627393076ee@gruene-boenebuettel.de
URL;VALUE=URI:https://gruene-boenebuettel.de/termine/einheits-krokus-budd
 eln/
LOCATION:
SUMMARY:Einheits-Krokus-Buddeln
DESCRIPTION;ALTREP="data:text/html,%0A%3Cp%3EAm%20%3Cstrong%3E3.%20Oktobe
 r%20um%2014%20Uhr%3C%2Fstrong%3E%20m%C3%B6chten%20wir%20uns%20mit%20dir%2
 0treffen%2C%20um%20gemeinsam%20viele%20Krokusse%20in%20unserem%20Dorf%20e
 inzubuddeln.%20So%20sorgen%20wir%20daf%C3%BCr%2C%20dass%20im%20Fr%C3%BChj
 ahr%20bunte%20Bl%C3%BCten%20unsere%20Stra%C3%9Fen%20versch%C3%B6nern.%3Cb
 r%3EWeitere%20Infos%20und%20den%20genauen%20Treffpunkt%20erf%C3%A4hrst%20
 du%20rechtzeitig%20hier%20an%20dieser%20Stelle.%3C%2Fp%3E%0A":Am 3. Oktob
 er um 14 Uhr möchten wir uns mit dir treffen\, um gemeinsam viele Krokus
 se in unserem Dorf einzubuddeln. So sorgen wir dafür\, dass im Frühjahr
  bunte Blüten unsere Straßen verschönern.Weitere Infos und den genauen
  Treffpunkt erfährst du rechtzeitig hier an dieser Stelle.
CLASS:PUBLIC
DTSTART;TZID=Europe/Berlin:20261003T140000
DTEND;TZID=Europe/Berlin:20261003T150000
DTSTAMP:20260420T094637
END:VEVENT
END:VCALENDAR