BEGIN:VCALENDAR
VERSION:2.0
PRODID:gruene-boenebuettel.de
METHOD:PUBLISH
BEGIN:VTIMEZONE
TZID:Europe/Berlin
X-LIC-LOCATION:Europe/Berlin
BEGIN:DAYLIGHT
TZOFFSETFROM:+0100
TZOFFSETTO:+0200
TZNAME:CEST
DTSTART:19700329T020000
RRULE:FREQ=YEARLY;INTERVAL=1;BYDAY=-1SU;BYMONTH=3
END:DAYLIGHT
BEGIN:STANDARD
TZOFFSETFROM:+0200
TZOFFSETTO:+0100
TZNAME:CET
DTSTART:19701025T030000
RRULE:FREQ=YEARLY;INTERVAL=1;BYDAY=-1SU;BYMONTH=10
END:STANDARD
END:VTIMEZONE
BEGIN:VEVENT
UID:379e7cd09a316b0bcba1a24a2e661648@gruene-boenebuettel.de
URL;VALUE=URI:https://gruene-boenebuettel.de/termine/herbstfest-auf-dem-a
 cker/
LOCATION:Auf dem Acker
SUMMARY:Herbstfest auf dem Acker
DESCRIPTION;ALTREP="data:text/html,%0A%3Cp%3EAuch%20in%20diesem%20Jahr%20
 laden%20wir%20zu%20unserem%20Herbstfest%20auf%20dem%20Acker%20ein.%20Zusa
 mmen%20wollen%20wir%20Drachen%20steigen%20lassen%2C%20frische%20Waffeln%2
 0und%20K%C3%BCrbissuppe%20essen%20und%20gemeinsam%20die%20Zeit%20verbring
 en.%3C%2Fp%3E%0A%0A%0A%0A%3Cp%3EBei%20sehr%20schlechtem%20Wetter%20muss%2
 0das%20Treffen%20leider%20ausfallen.%20Das%20w%C3%BCrden%20wir%20rechtzei
 tig%20an%20dieser%20Stelle%20ver%C3%B6ffentlichen.%20Aber%20wir%20hoffen%
 20auf%20guten%20Wind%20mit%20viel%20Sonne.%3Cbr%3E%3Cbr%3EOrt%3A%20B%C3%B
 6neb%C3%BCtteler%20Damm%2C%20ca.%201000%20Meter%20in%20Richtung%20Bokhors
 t%20links%20auf%20dem%20Acker%3C%2Fp%3E%0A":Auch in diesem Jahr laden wir
  zu unserem Herbstfest auf dem Acker ein. Zusammen wollen wir Drachen ste
 igen lassen\, frische Waffeln und Kürbissuppe essen und gemeinsam die Ze
 it verbringen.\n\nBei sehr schlechtem Wetter muss das Treffen leider ausf
 allen. Das würden wir rechtzeitig an dieser Stelle veröffentlichen. Abe
 r wir hoffen auf guten Wind mit viel Sonne.Ort: Bönebütteler Damm\, ca.
  1000 Meter in Richtung Bokhorst links auf dem Acker
CLASS:PUBLIC
DTSTART;TZID=Europe/Berlin:20261010T140000
DTEND;TZID=Europe/Berlin:20261010T160000
DTSTAMP:20260420T093355
END:VEVENT
END:VCALENDAR