BEGIN:VCALENDAR
VERSION:2.0
PRODID:gruene-boenebuettel.de
METHOD:PUBLISH
BEGIN:VTIMEZONE
TZID:Europe/Berlin
X-LIC-LOCATION:Europe/Berlin
BEGIN:DAYLIGHT
TZOFFSETFROM:+0100
TZOFFSETTO:+0200
TZNAME:CEST
DTSTART:19700329T020000
RRULE:FREQ=YEARLY;INTERVAL=1;BYDAY=-1SU;BYMONTH=3
END:DAYLIGHT
BEGIN:STANDARD
TZOFFSETFROM:+0200
TZOFFSETTO:+0100
TZNAME:CET
DTSTART:19701025T030000
RRULE:FREQ=YEARLY;INTERVAL=1;BYDAY=-1SU;BYMONTH=10
END:STANDARD
END:VTIMEZONE
BEGIN:VEVENT
UID:597003acaacfe152c58792fbe3f98b10@gruene-boenebuettel.de
URL;VALUE=URI:https://gruene-boenebuettel.de/termine/herbstreffen/
LOCATION:Acker, Bönebüttel
SUMMARY:Herbsttreffen auf dem Acker
DESCRIPTION;ALTREP="data:text/html,%0A%3Cp%3EAm%2012.%20Oktober%20laden%2
 0wir%20zum%20Herbstreffen%20von%2014%E2%80%9316%20Uhr%20auf%20dem%20Acker
 %20ein.%20Wir%20wollen%20den%20Herbst%20erleben%3A%20mit%20Drachensteigen
 %20%28wir%20hoffen%20auf%20reichlich%20Wind%29%2C%20Stockbrot%20und%20vie
 lleicht%20mehr.%3C%2Fp%3E%0A%0A%0A%0A%3Cp%3EWenn%20auch%20du%20dich%20dar
 an%20beteiligen%20m%C3%B6chtest%2C%20dann%20melde%20dich%20gerne%20bei%20
 %3Ca%20href%3D%22mailto%3Adavid.dudyka%40gruene-boenebuettel.de%22%3Edavi
 d.dudyka%40gruene-boenebuettel.de%3C%2Fa%3E%3C%2Fp%3E%0A%0A%0A%0A%3Cp%3ES
 ollte%20es%20an%20dem%20Tag%20regnen%2C%20f%C3%A4llt%20das%20Treffen%20au
 s.%20Dann%20werden%20wir%20das%20hier%20auf%20der%20Website%20bekannt%20g
 eben%2C%20damit%20sich%20niemand%20umsonst%20auf%20den%20Weg%20macht.%3C%
 2Fp%3E%0A%0A%0A%0A%3Cp%3EWir%20treffen%20uns%20auf%20dem%20Feld%2C%20eini
 ge%20hundert%20Meter%20auf%20der%20linken%20Seite%20Richtung%20Bokhorst.%
 20Eine%20Beachflag%20wird%20dir%20die%20Einfahrt%20zeigen.%3C%2Fp%3E%0A%0
 A%0A%0A%3Cp%3EUnd%20der%20Wetterbercht%20verspricht%20einen%20wunderbaren
 %20Nachmittag%21%3C%2Fp%3E%0A":Am 12. Oktober laden wir zum Herbstreffen 
 von 14–16 Uhr auf dem Acker ein. Wir wollen den Herbst erleben: mit Dra
 chensteigen (wir hoffen auf reichlich Wind)\, Stockbrot und vielleicht me
 hr.\n\nWenn auch du dich daran beteiligen möchtest\, dann melde dich ger
 ne bei david.dudyka@gruene-boenebuettel.de\n\nSollte es an dem Tag regnen
 \, fällt das Treffen aus. Dann werden wir das hier auf der Website bekan
 nt geben\, damit sich niemand umsonst auf den Weg macht.\n\nWir treffen u
 ns auf dem Feld\, einige hundert Meter auf der linken Seite Richtung Bokh
 orst. Eine Beachflag wird dir die Einfahrt zeigen.\n\nUnd der Wetterberch
 t verspricht einen wunderbaren Nachmittag!
CLASS:PUBLIC
DTSTART;TZID=Europe/Berlin:20241012
DTEND;TZID=Europe/Berlin:20241012
DTSTAMP:20260420T112242
END:VEVENT
END:VCALENDAR