BEGIN:VCALENDAR
VERSION:2.0
PRODID:gruene-boenebuettel.de
METHOD:PUBLISH
BEGIN:VTIMEZONE
TZID:Europe/Berlin
X-LIC-LOCATION:Europe/Berlin
BEGIN:DAYLIGHT
TZOFFSETFROM:+0100
TZOFFSETTO:+0200
TZNAME:CEST
DTSTART:19700329T020000
RRULE:FREQ=YEARLY;INTERVAL=1;BYDAY=-1SU;BYMONTH=3
END:DAYLIGHT
BEGIN:STANDARD
TZOFFSETFROM:+0200
TZOFFSETTO:+0100
TZNAME:CET
DTSTART:19701025T030000
RRULE:FREQ=YEARLY;INTERVAL=1;BYDAY=-1SU;BYMONTH=10
END:STANDARD
END:VTIMEZONE
BEGIN:VEVENT
UID:fc8c1e56560cb4cd85f42b22d81bf527@gruene-boenebuettel.de
URL;VALUE=URI:https://gruene-boenebuettel.de/termine/infoabend-infoabend-
 heizen-in-zukunft-teil-1/
LOCATION:Multifunktionsraum
SUMMARY:Infoabend Heizen in Zukunft – Teil 1
DESCRIPTION;ALTREP="data:text/html,%0A%3Cp%3EDen%20Auftakt%20zur%20kleine
 n%20Inforeihe%20macht%20am%2018.%20Oktober%20J%C3%BCrgen%C2%A0Meereis.%20
 Er%20ist%20Physiker%20und%20arbeitet%20in%20einem%20Ingenieurb%C3%BCro%20
 an%20Energie-%20und%20Quartierskonzepten.%20Im%20Ehrenamt%20ist%20er%20Ra
 tsmitglied%20in%20Kiel.%20Er%20wird%20%C3%BCber%20die%20Vorgaben%20des%20
 Geb%C3%A4udeenergiegesetzes%2C%20die%20M%C3%B6glichkeiten%20der%20W%C3%A4
 rmeversorgung%2C%20W%C3%A4rmenetze%20und%20ihre%20Betreibermodelle%20beri
 chten.%20Die%20Veranstaltung%20beginnt%20um%2019%20Uhr%20im%20Multifunkti
 onsraum%20der%20Gemeinde%2C%20Sickkamp%2016%20in%20B%C3%B6neb%C3%BCttel.%
 3C%2Fp%3E%0A":Den Auftakt zur kleinen Inforeihe macht am 18. Oktober Jür
 gen Meereis. Er ist Physiker und arbeitet in einem Ingenieurbüro an Ene
 rgie- und Quartierskonzepten. Im Ehrenamt ist er Ratsmitglied in Kiel. Er
  wird über die Vorgaben des Gebäudeenergiegesetzes\, die Möglichkeiten
  der Wärmeversorgung\, Wärmenetze und ihre Betreibermodelle berichten. 
 Die Veranstaltung beginnt um 19 Uhr im Multifunktionsraum der Gemeinde\, 
 Sickkamp 16 in Bönebüttel.
CLASS:PUBLIC
DTSTART;TZID=Europe/Berlin:20241018T190000
DTEND;TZID=Europe/Berlin:20241018T200000
DTSTAMP:20260420T095205
END:VEVENT
END:VCALENDAR