BEGIN:VCALENDAR
VERSION:2.0
PRODID:gruene-boenebuettel.de
METHOD:PUBLISH
BEGIN:VTIMEZONE
TZID:Europe/Berlin
X-LIC-LOCATION:Europe/Berlin
BEGIN:DAYLIGHT
TZOFFSETFROM:+0100
TZOFFSETTO:+0200
TZNAME:CEST
DTSTART:19700329T020000
RRULE:FREQ=YEARLY;INTERVAL=1;BYDAY=-1SU;BYMONTH=3
END:DAYLIGHT
BEGIN:STANDARD
TZOFFSETFROM:+0200
TZOFFSETTO:+0100
TZNAME:CET
DTSTART:19701025T030000
RRULE:FREQ=YEARLY;INTERVAL=1;BYDAY=-1SU;BYMONTH=10
END:STANDARD
END:VTIMEZONE
BEGIN:VEVENT
UID:af7c2af4c828547d546cf9a0c76542fc@gruene-boenebuettel.de
URL;VALUE=URI:https://gruene-boenebuettel.de/termine/ostereiersuche-im-wa
 ld/
LOCATION:Wald, Bönebüttel
SUMMARY:Ostereiersuche im Wald
DESCRIPTION;ALTREP="data:text/html,%0A%3Cp%3E%3Cem%3EUpdate%3A%20Aufgrund
 %20des%20Windes%20k%C3%B6nnen%20wir%20noch%20nicht%20sagen%2C%20ob%20ein%
 20Ostereiersuchen%20im%20Wald%20m%C3%B6glich%20ist.%20Falls%20nicht%2C%20
 finden%20wir%20entlang%20des%20H%C3%B6llnweges%20eine%20andere%20M%C3%B6g
 lichkeit.%20Du%20wirst%20uns%20auf%20dem%20Weg%20dahin%20finden.%20Wir%20
 freuen%20uns%20auf%20dich%20und%20euch%21%3C%2Fem%3E%3C%2Fp%3E%0A%0A%0A%0
 A%3Cp%3EWas%20gibt%20es%20Sch%C3%B6neres%2C%20als%20am%20Ostermontag%20du
 rch%20den%20Wald%20zu%20schlendern%20und%20dabei%20bunte%20Ostereier%20zu
 %20entdecken%3F%3Cbr%3EGenau%20dazu%20laden%20wir%20dich%20herzlich%20ein
 %3A%20Am%20%3Cstrong%3E6.%20April%20um%2014%3A00%20Uhr%3C%2Fstrong%3E%20e
 rwartet%20dich%20eine%20kleine%20Auszeit%20im%20Wald%20%E2%80%93%20inklus
 ive%20fr%C3%B6hlicher%20Ostereiersuche%20f%C3%BCr%20Kinder.%3C%2Fp%3E%0A%
 0A%0A%0A%3Cp%3EWo%20wir%20uns%20treffen%3F%20Du%20f%C3%A4hrst%20den%20H%C
 3%B6llnweg%20mit%20dem%20Fahrrad%20einfach%20bis%20zur%20markierten%20Ste
 lle.%20Wichtig%3A%20Vor%20Ort%20gibt%20es%20keine%20Parkpl%C3%A4tze%20f%C
 3%BCr%20Autos%2C%20daf%C3%BCr%20umso%20mehr%20f%C3%BCr%20Fahrr%C3%A4der%2
 0%3A-%29%20%3C%2Fp%3E%0A%0A%0A%0A%3Cfigure%20class%3D%22wp-block-image%20
 size-large%22%3E%3Cimg%20src%3D%22https%3A%2F%2Fgruene-boenebuettel.de%2F
 wp-content%2Fuploads%2F2026%2F01%2FBildschirmfoto-2026-03-21-um-22.27.20-
 1024x635.png%22%20alt%3D%22%22%20class%3D%22wp-image-386%22%20%2F%3E%3C%2
 Ffigure%3E%0A":Update: Aufgrund des Windes können wir noch nicht sagen\,
  ob ein Ostereiersuchen im Wald möglich ist. Falls nicht\, finden wir en
 tlang des Höllnweges eine andere Möglichkeit. Du wirst uns auf dem Weg 
 dahin finden. Wir freuen uns auf dich und euch!\n\nWas gibt es Schöneres
 \, als am Ostermontag durch den Wald zu schlendern und dabei bunte Ostere
 ier zu entdecken?Genau dazu laden wir dich herzlich ein: Am 6. April um 1
 4:00 Uhr erwartet dich eine kleine Auszeit im Wald – inklusive fröhlic
 her Ostereiersuche für Kinder.\n\nWo wir uns treffen? Du fährst den Hö
 llnweg mit dem Fahrrad einfach bis zur markierten Stelle. Wichtig: Vor Or
 t gibt es keine Parkplätze für Autos\, dafür umso mehr für Fahrräder
  :-)
CLASS:PUBLIC
DTSTART;TZID=Europe/Berlin:20260406T140000
DTEND;TZID=Europe/Berlin:20260406T150000
DTSTAMP:20260420T094654
END:VEVENT
END:VCALENDAR